BEGIN:VCALENDAR
VERSION:2.0
PRODID:spatie/icalendar-generator
DESCRIPTION:Events from Santa Ynez Valley Grange
X-WR-CALDESC:Events from Santa Ynez Valley Grange
REFRESH-INTERVAL;VALUE=DURATION:PT1440M
X-PUBLISHED-TTL:PT1440M
BEGIN:VTIMEZONE
TZID:America/Los_Angeles
BEGIN:STANDARD
DTSTART:20251102T020000Z
TZOFFSETFROM:-0700
TZOFFSETTO:-0800
END:STANDARD
BEGIN:DAYLIGHT
DTSTART:20260308T020000Z
TZOFFSETFROM:-0800
TZOFFSETTO:-0700
END:DAYLIGHT
END:VTIMEZONE
BEGIN:VTIMEZONE
TZID:UTC
BEGIN:STANDARD
DTSTART:20250728T161611Z
TZOFFSETFROM:+0000
TZOFFSETTO:+0000
END:STANDARD
END:VTIMEZONE
BEGIN:VEVENT
UID:170-29
DTSTAMP:20260424T161611Z
SUMMARY:Booked
LOCATION:Santa Ynez Valley Grange 2374 Alamo Pintado Avenue  Los Olivos CA 
 93441
ORGANIZER;CN=SYV Grange:MAILTO:carey_mckinnon@yahoo.com
RRULE:FREQ=MONTHLY;BYDAY=1WE;UNTIL=20260603T000000Z
DTSTART;TZID=America/Los_Angeles:20260401T083000
DTEND;TZID=America/Los_Angeles:20260401T113000
X-ALT-DESC;FMTTYPE=TEXT/HTML:
CATEGORIES:Rentals
URL;VALUE=URI:https://santaynezvalleygrange.org/mc-events/booked-15/?mc_id=
 170
METHOD:PUBLISH
END:VEVENT
END:VCALENDAR